BEGIN:VCALENDAR
VERSION:2.0
PRODID:-//Legacy Leadership Forums - ECPv6.15.20//NONSGML v1.0//EN
CALSCALE:GREGORIAN
METHOD:PUBLISH
X-WR-CALNAME:Legacy Leadership Forums
X-ORIGINAL-URL:https://legacyleadershipforums.org
X-WR-CALDESC:Events for Legacy Leadership Forums
REFRESH-INTERVAL;VALUE=DURATION:PT1H
X-Robots-Tag:noindex
X-PUBLISHED-TTL:PT1H
BEGIN:VTIMEZONE
TZID:UTC
BEGIN:STANDARD
TZOFFSETFROM:+0000
TZOFFSETTO:+0000
TZNAME:UTC
DTSTART:20220101T000000
END:STANDARD
END:VTIMEZONE
BEGIN:VEVENT
DTSTART;TZID=UTC:20250923T080000
DTEND;TZID=UTC:20250923T123000
DTSTAMP:20260421T105803
CREATED:20230803T155150Z
LAST-MODIFIED:20250812T174902Z
UID:25774-1758614400-1758630600@legacyleadershipforums.org
SUMMARY:The LLF Women’s Prayer Retreat
DESCRIPTION:Registration\n      \n\n\n\n        \n            Women's Prayer Retreat – Sept 24 $115.00 USD\n          \n            Womens Prayer Retreat – Sept 24 $230.00 USD\n          \n      \n\n\n\n        \n        Email address\n      \n\n\n\n        \n      \n\n\n\n        \n        Mailing Address
URL:https://legacyleadershipforums.org/event/the-llf-womens-prayer-retreat/
ATTACH;FMTTYPE=image/jpeg:https://legacyleadershipforums.org/wp-content/uploads/Prayer-Retreat-Women-2025.jpg
END:VEVENT
BEGIN:VEVENT
DTSTART;TZID=UTC:20250918T080000
DTEND;TZID=UTC:20250919T123000
DTSTAMP:20260421T105803
CREATED:20230803T155150Z
LAST-MODIFIED:20250917T032824Z
UID:24653-1758182400-1758285000@legacyleadershipforums.org
SUMMARY:LLF Men’s Prayer Retreat
DESCRIPTION:
URL:https://legacyleadershipforums.org/event/the-market-series-in-sioux-falls-2023-how-to-build-an-effective-leadership-team-in-your-business/
ATTACH;FMTTYPE=image/jpeg:https://legacyleadershipforums.org/wp-content/uploads/Prayer-Retreat-2025-2.jpg
END:VEVENT
BEGIN:VEVENT
DTSTART;TZID=UTC:20250620T190000
DTEND;TZID=UTC:20250622T100000
DTSTAMP:20260421T105803
CREATED:20250209T233642Z
LAST-MODIFIED:20250209T233642Z
UID:25762-1750446000-1750586400@legacyleadershipforums.org
SUMMARY:The Marriage Retreat & Get-Away
DESCRIPTION:The reasons you and your spouse should come:\nRest and relaxation with your spouse\nBe challenged in your marriage to abide in Christ\nFellowship with other Christ-minded couples \n\n\n \n\n\n\n$650 per couple\n\n\n1 Couple – $650.00 USD2 Couples – $1\,300.00 USD3 Couples – $1\,950.00 USD\n\n\nPlease provide your email:\n\n\n\n\n\nPlease provide your address:
URL:https://legacyleadershipforums.org/event/the-marriage-retreat-get-away-2/
ATTACH;FMTTYPE=image/jpeg:https://legacyleadershipforums.org/wp-content/uploads/Marketing-for-2025-Marriage-Retreat-scaled-1.jpg
END:VEVENT
BEGIN:VEVENT
DTSTART;TZID=UTC:20250620T190000
DTEND;TZID=UTC:20250622T100000
DTSTAMP:20260421T105803
CREATED:20250209T233642Z
LAST-MODIFIED:20250209T233817Z
UID:25408-1750446000-1750586400@legacyleadershipforums.org
SUMMARY:The Marriage Retreat & Get-Away
DESCRIPTION:The reasons you and your spouse should come:\nRest and relaxation with your spouse\nBe challenged in your marriage to abide in Christ\nFellowship with other Christ-minded couples \n\n\n \n\n\n\n$650 per couple\n\n\n1 Couple – $650.00 USD2 Couples – $1\,300.00 USD3 Couples – $1\,950.00 USD\n\n\nPlease provide your email:\n\n\n\n\n\nPlease provide your address:
URL:https://legacyleadershipforums.org/event/the-marriage-retreat-get-away/
ATTACH;FMTTYPE=image/jpeg:https://legacyleadershipforums.org/wp-content/uploads/Marketing-for-2025-Marriage-Retreat-scaled.jpg
END:VEVENT
BEGIN:VEVENT
DTSTART;TZID=UTC:20250321T181500
DTEND;TZID=UTC:20250321T210000
DTSTAMP:20260421T105803
CREATED:20250113T235108Z
LAST-MODIFIED:20250320T204042Z
UID:25376-1742580900-1742590800@legacyleadershipforums.org
SUMMARY:The Business & Mission Leadership Dinner
DESCRIPTION:
URL:https://legacyleadershipforums.org/event/the-business-mission-leadership-dinner/
ATTACH;FMTTYPE=image/jpeg:https://legacyleadershipforums.org/wp-content/uploads/Website-Invite-2.jpg
END:VEVENT
BEGIN:VEVENT
DTSTART;TZID=UTC:20240924T090000
DTEND;TZID=UTC:20240924T170000
DTSTAMP:20260421T105803
CREATED:20240719T010420Z
LAST-MODIFIED:20240719T010534Z
UID:25111-1727168400-1727197200@legacyleadershipforums.org
SUMMARY:Womens Prayer Retreat - Sept 24
DESCRIPTION:Registration\n      \n\n\n\n        \n            Women's Prayer Retreat – Sept 24 $100.00 USD\n          \n            Womens Prayer Retreat – Sept 24 $200.00 USD\n          \n      \n\n\n\n        \n        Email address\n      \n\n\n\n        \n      \n\n\n\n        \n        Mailing Address
URL:https://legacyleadershipforums.org/event/womens-prayer-retreat-sept-24/
ATTACH;FMTTYPE=image/jpeg:https://legacyleadershipforums.org/wp-content/uploads/2024-Womens-Prayer-Retreat-for-Bochi.jpg
END:VEVENT
BEGIN:VEVENT
DTSTART;TZID=UTC:20240919T080000
DTEND;TZID=UTC:20240920T170000
DTSTAMP:20260421T105803
CREATED:20240730T204223Z
LAST-MODIFIED:20240805T160356Z
UID:25147-1726732800-1726851600@legacyleadershipforums.org
SUMMARY:Prayer Retreats 2024
DESCRIPTION:Prayer Retreat Dates\n      \n\n\n\n        \n            Prayer Retreat – September 12-13\n          \n            Prayer Retreat – September 19-20
URL:https://legacyleadershipforums.org/event/25145-2/
ATTACH;FMTTYPE=image/jpeg:https://legacyleadershipforums.org/wp-content/uploads/2024-Forum-Prayer-Retreat-for-Bochi-scaled-1.jpg
END:VEVENT
BEGIN:VEVENT
DTSTART;TZID=UTC:20240912T080000
DTEND;TZID=UTC:20240913T170000
DTSTAMP:20260421T105803
CREATED:20240730T204223Z
LAST-MODIFIED:20240805T160258Z
UID:25145-1726128000-1726246800@legacyleadershipforums.org
SUMMARY:Prayer Retreats 2024
DESCRIPTION:Prayer Retreat Dates\n      \n\n\n\n        \n            Prayer Retreat – September 12-13\n          \n            Prayer Retreat – September 19-20
URL:https://legacyleadershipforums.org/event/25145/
ATTACH;FMTTYPE=image/jpeg:https://legacyleadershipforums.org/wp-content/uploads/2024-Forum-Prayer-Retreat-for-Bochi-scaled.jpg
END:VEVENT
BEGIN:VEVENT
DTSTART;TZID=UTC:20240719T180000
DTEND;TZID=UTC:20240721T100000
DTSTAMP:20260421T105803
CREATED:20240313T034640Z
LAST-MODIFIED:20240319T185847Z
UID:24924-1721412000-1721556000@legacyleadershipforums.org
SUMMARY:The Marriage Retreat & Get Away
DESCRIPTION:Weekend Package Includes \n\n  \n   \n\n\n\n        \n        $650 per couple\n      \n\n\n\n        \n            1 couple $650.00 USD\n          \n            2 couples $1\,300.00 USD\n          \n            3 couples $1\,950.00 USD\n          \n      \n\n\n\n        \n        Please provide email:\n      \n\n\n\n        \n      \n\n\n\n        \n        Please provide your address:
URL:https://legacyleadershipforums.org/event/marriage-retreat/
ATTACH;FMTTYPE=image/jpeg:https://legacyleadershipforums.org/wp-content/uploads/Marriage-Retreat-Website-Marketing-scaled.jpg
END:VEVENT
BEGIN:VEVENT
DTSTART;TZID=UTC:20240306T080000
DTEND;TZID=UTC:20240306T120000
DTSTAMP:20260421T105803
CREATED:20230929T014946Z
LAST-MODIFIED:20240209T145600Z
UID:24690-1709712000-1709726400@legacyleadershipforums.org
SUMMARY:Cultivating Flourishing in Your Organization
DESCRIPTION:Marketplace Series (Embassy Stes – Lombard) March 6\n      \n\n\n\n        \n            One Participant – Lombard $75.00 USD\n          \n            2 Participants – Lombard $150.00 USD\n          \n            3 Participants – Lombard $225.00 USD\n          \n            4 Participants – Lombard $300.00 USD\n          \n            5 Participants – Lombard $375.00 USD\n          \n            6 Participants – Lombard $450.00 USD\n          \n      \n\n\n\n        \n        Your email address
URL:https://legacyleadershipforums.org/event/cultivating-flourishing-in-your-organization-2/
ATTACH;FMTTYPE=image/jpeg:https://legacyleadershipforums.org/wp-content/uploads/Marketing-for-March-2024-Website-2-scaled.jpg
END:VEVENT
BEGIN:VEVENT
DTSTART;TZID=UTC:20231101T080000
DTEND;TZID=UTC:20231101T120000
DTSTAMP:20260421T105803
CREATED:20230929T014946Z
LAST-MODIFIED:20230929T014946Z
UID:24869-1698825600-1698840000@legacyleadershipforums.org
SUMMARY:Cultivating Flourishing in Your Organization
DESCRIPTION:Marketplace Series (Embassy Stes – Lombard) Nov 1\n      \n\n\n\n        \n            One Participant – Lombard $75.00 USD\n          \n            2 Participants – Lombard $150.00 USD\n          \n            3 Participants – Lombard $225.00 USD\n          \n            4 Participants – Lombard $300.00 USD\n          \n            5 Participants – Lombard $375.00 USD\n          \n            6 Participants – Lombard $450.00 USD\n          \n      \n\n\n\n        \n        Your email address
URL:https://legacyleadershipforums.org/event/cultivating-flourishing-in-your-organization-2-3/
ATTACH;FMTTYPE=image/jpeg:https://legacyleadershipforums.org/wp-content/uploads/Marketing-for-Oct-Nov-2023-for-Bochi_2-scaled-2.jpg
END:VEVENT
BEGIN:VEVENT
DTSTART;TZID=UTC:20231031T080000
DTEND;TZID=UTC:20231031T120000
DTSTAMP:20260421T105803
CREATED:20230929T014619Z
LAST-MODIFIED:20231016T210313Z
UID:24688-1698739200-1698753600@legacyleadershipforums.org
SUMMARY:Cultivating Flourishing in Your Organization
DESCRIPTION:Marketplace Series (Hampton Inn-Munster) Oct 31\n      \n\n\n\n        \n            One Participant – Munster $75.00 USD\n          \n            2 Participants – Munster $150.00 USD\n          \n            3 Participants – Munster $225.00 USD\n          \n            4 Participants – Munster $300.00 USD\n          \n            5 Participants – Munster $375.00 USD\n          \n            6 Participants – Munster $450.00 USD\n          \n      \n\n\n\n        \n        Your email address
URL:https://legacyleadershipforums.org/event/cultivating-flourishing-in-your-organization/
ATTACH;FMTTYPE=image/jpeg:https://legacyleadershipforums.org/wp-content/uploads/Marketing-for-Oct-Nov-2023-2.jpg
END:VEVENT
BEGIN:VEVENT
DTSTART;TZID=UTC:20230926T080000
DTEND;TZID=UTC:20230927T200000
DTSTAMP:20260421T105803
CREATED:20230710T185357Z
LAST-MODIFIED:20230801T013615Z
UID:24639-1695715200-1695844800@legacyleadershipforums.org
SUMMARY:2023 Women’s Prayer Retreat
DESCRIPTION:Prayer Retreat Dates\n      \n\n\n\n        \n            Prayer Retreat – September 12-13\n          \n            Prayer Retreat – September 19-20\n          \n            Prayer Retreat – September 26 with o/night opt (women only)
URL:https://legacyleadershipforums.org/event/2023-womens-prayer-retreat/
ATTACH;FMTTYPE=image/jpeg:https://legacyleadershipforums.org/wp-content/uploads/9-26-2023-Womens-Prayer-Retreat-scaled.jpg
END:VEVENT
BEGIN:VEVENT
DTSTART;TZID=UTC:20230919T080000
DTEND;TZID=UTC:20230920T110000
DTSTAMP:20260421T105803
CREATED:20230710T185113Z
LAST-MODIFIED:20230801T013611Z
UID:24638-1695110400-1695207600@legacyleadershipforums.org
SUMMARY:2023 Prayer Retreat
DESCRIPTION:Prayer Retreat Dates\n      \n\n\n\n        \n            Prayer Retreat – September 12-13\n          \n            Prayer Retreat – September 19-20\n          \n            Prayer Retreat – September 26 with o/night opt (women only)
URL:https://legacyleadershipforums.org/event/2023-prayer-retreat-2/
ATTACH;FMTTYPE=image/jpeg:https://legacyleadershipforums.org/wp-content/uploads/9-12-19-2023-Prayer-Retreat-Sign-up-scaled.jpg
END:VEVENT
BEGIN:VEVENT
DTSTART;TZID=UTC:20230912T080000
DTEND;TZID=UTC:20230913T110000
DTSTAMP:20260421T105803
CREATED:20230710T184700Z
LAST-MODIFIED:20230801T013607Z
UID:24635-1694505600-1694602800@legacyleadershipforums.org
SUMMARY:2023 Prayer Retreat
DESCRIPTION:Prayer Retreat Dates\n      \n\n\n\n        \n            Prayer Retreat – September 12-13\n          \n            Prayer Retreat – September 19-20\n          \n            Prayer Retreat – September 26 with o/night opt (women only)
URL:https://legacyleadershipforums.org/event/2023-prayer-retreat/
ATTACH;FMTTYPE=image/jpeg:https://legacyleadershipforums.org/wp-content/uploads/9-12-19-2023-Prayer-Retreat-Sign-up-scaled.jpg
END:VEVENT
BEGIN:VEVENT
DTSTART;TZID=UTC:20230802T080000
DTEND;TZID=UTC:20230802T120000
DTSTAMP:20260421T105803
CREATED:20230412T033413Z
LAST-MODIFIED:20230601T154753Z
UID:24554-1690963200-1690977600@legacyleadershipforums.org
SUMMARY:Marketplace Series 2023-24 Cultivating Flourishing in Your Organization (Residence Inn)
DESCRIPTION:Registration\n\n\nOne participant for Residence Inn $75.00 USD2 participants for Residence Inn $150.00 USD3 participants for Residence $225.00 USD4 participants for Residence Inn $300.00 USD5 participants for Residence Inn $375.00 USD6 participants for Residence Inn $450.00 USD \n\n\nBest email to contact you at
URL:https://legacyleadershipforums.org/event/marketplace-series-2023-24-cultivating-flourishing-in-your-organization-residence-inn/
ATTACH;FMTTYPE=image/jpeg:https://legacyleadershipforums.org/wp-content/uploads/Marketing-for-Aug-2023-Website-scaled.jpg
END:VEVENT
BEGIN:VEVENT
DTSTART;TZID=UTC:20230623T180000
DTEND;TZID=UTC:20230625T100000
DTSTAMP:20260421T105803
CREATED:20230426T013753Z
LAST-MODIFIED:20230426T014359Z
UID:24560-1687543200-1687687200@legacyleadershipforums.org
SUMMARY:The Marriage Retreate & Get Away "Marriage: A Reflection of Christ"
DESCRIPTION:Please provide email:
URL:https://legacyleadershipforums.org/event/the-marriage-retreate-get-away-marriage-a-reflection-of-christ/
ATTACH;FMTTYPE=image/jpeg:https://legacyleadershipforums.org/wp-content/uploads/Marriage-Retreat-Invite-scaled.jpg
END:VEVENT
BEGIN:VEVENT
DTSTART;TZID=UTC:20230221T080000
DTEND;TZID=UTC:20230221T120000
DTSTAMP:20260421T105803
CREATED:20221003T234327Z
LAST-MODIFIED:20230106T214709Z
UID:24416-1676966400-1676980800@legacyleadershipforums.org
SUMMARY:Part 3 of The Marketplace Series 2022-2023: How to Build an Effective Leadership Team in your business.
DESCRIPTION:Registration\n\n\nOne participant for Residence Inn $75.00 USD2 participants for Residence Inn $150.00 USD3 participants for Residence $225.00 USD4 participants for Residence Inn $300.00 USD5 participants for Residence Inn $375.00 USD6 participants for Residence Inn $450.00 USD \n\n\nBest email to contact you at
URL:https://legacyleadershipforums.org/event/part-2-of-the-marketplace-series-2022-how-to-build-an-effective-leadership-team-in-your-business/
ATTACH;FMTTYPE=image/jpeg:https://legacyleadershipforums.org/wp-content/uploads/Marketing-for-Feb-2023-scaled.jpg
END:VEVENT
BEGIN:VEVENT
DTSTART;TZID=UTC:20230207T080000
DTEND;TZID=UTC:20230207T120000
DTSTAMP:20260421T105803
CREATED:20221003T234747Z
LAST-MODIFIED:20230106T214703Z
UID:24419-1675756800-1675771200@legacyleadershipforums.org
SUMMARY:Part 3 of The Marketplace Series 2022-2023: How to Build an Effective Leadership Team in your business.
DESCRIPTION:Registration\n\n\nOne participant for Andorra $75.00 USD2 participants for Andorra $150.00 USD3 participants for Andorra $225.00 USD4 participants for Andorra $300.00 USD5 participants for Andorra $375.00 USD6 participants for Andorra $450.00 USD \n\n\nBest email to contact you at:
URL:https://legacyleadershipforums.org/event/part-2-of-the-marketplace-series-2022-how-to-build-an-effective-leadership-team-in-your-business-2/
ATTACH;FMTTYPE=image/jpeg:https://legacyleadershipforums.org/wp-content/uploads/Marketing-for-Feb-2023-scaled.jpg
END:VEVENT
END:VCALENDAR