BEGIN:VCALENDAR
VERSION:2.0
PRODID:-//Legacy Leadership Forums - ECPv6.15.20//NONSGML v1.0//EN
CALSCALE:GREGORIAN
METHOD:PUBLISH
X-WR-CALNAME:Legacy Leadership Forums
X-ORIGINAL-URL:https://legacyleadershipforums.org
X-WR-CALDESC:Events for Legacy Leadership Forums
REFRESH-INTERVAL;VALUE=DURATION:PT1H
X-Robots-Tag:noindex
X-PUBLISHED-TTL:PT1H
BEGIN:VTIMEZONE
TZID:UTC
BEGIN:STANDARD
TZOFFSETFROM:+0000
TZOFFSETTO:+0000
TZNAME:UTC
DTSTART:20220101T000000
END:STANDARD
END:VTIMEZONE
BEGIN:VEVENT
DTSTART;TZID=UTC:20230926T080000
DTEND;TZID=UTC:20230927T200000
DTSTAMP:20260421T213914
CREATED:20230710T185357Z
LAST-MODIFIED:20230801T013615Z
UID:24639-1695715200-1695844800@legacyleadershipforums.org
SUMMARY:2023 Women’s Prayer Retreat
DESCRIPTION:Prayer Retreat Dates\n      \n\n\n\n        \n            Prayer Retreat – September 12-13\n          \n            Prayer Retreat – September 19-20\n          \n            Prayer Retreat – September 26 with o/night opt (women only)
URL:https://legacyleadershipforums.org/event/2023-womens-prayer-retreat/
ATTACH;FMTTYPE=image/jpeg:https://legacyleadershipforums.org/wp-content/uploads/9-26-2023-Womens-Prayer-Retreat-scaled.jpg
END:VEVENT
BEGIN:VEVENT
DTSTART;TZID=UTC:20230919T080000
DTEND;TZID=UTC:20230920T110000
DTSTAMP:20260421T213914
CREATED:20230710T185113Z
LAST-MODIFIED:20230801T013611Z
UID:24638-1695110400-1695207600@legacyleadershipforums.org
SUMMARY:2023 Prayer Retreat
DESCRIPTION:Prayer Retreat Dates\n      \n\n\n\n        \n            Prayer Retreat – September 12-13\n          \n            Prayer Retreat – September 19-20\n          \n            Prayer Retreat – September 26 with o/night opt (women only)
URL:https://legacyleadershipforums.org/event/2023-prayer-retreat-2/
ATTACH;FMTTYPE=image/jpeg:https://legacyleadershipforums.org/wp-content/uploads/9-12-19-2023-Prayer-Retreat-Sign-up-scaled.jpg
END:VEVENT
BEGIN:VEVENT
DTSTART;TZID=UTC:20230912T080000
DTEND;TZID=UTC:20230913T110000
DTSTAMP:20260421T213914
CREATED:20230710T184700Z
LAST-MODIFIED:20230801T013607Z
UID:24635-1694505600-1694602800@legacyleadershipforums.org
SUMMARY:2023 Prayer Retreat
DESCRIPTION:Prayer Retreat Dates\n      \n\n\n\n        \n            Prayer Retreat – September 12-13\n          \n            Prayer Retreat – September 19-20\n          \n            Prayer Retreat – September 26 with o/night opt (women only)
URL:https://legacyleadershipforums.org/event/2023-prayer-retreat/
ATTACH;FMTTYPE=image/jpeg:https://legacyleadershipforums.org/wp-content/uploads/9-12-19-2023-Prayer-Retreat-Sign-up-scaled.jpg
END:VEVENT
BEGIN:VEVENT
DTSTART;TZID=UTC:20230802T080000
DTEND;TZID=UTC:20230802T120000
DTSTAMP:20260421T213914
CREATED:20230412T033413Z
LAST-MODIFIED:20230601T154753Z
UID:24554-1690963200-1690977600@legacyleadershipforums.org
SUMMARY:Marketplace Series 2023-24 Cultivating Flourishing in Your Organization (Residence Inn)
DESCRIPTION:Registration\n\n\nOne participant for Residence Inn $75.00 USD2 participants for Residence Inn $150.00 USD3 participants for Residence $225.00 USD4 participants for Residence Inn $300.00 USD5 participants for Residence Inn $375.00 USD6 participants for Residence Inn $450.00 USD \n\n\nBest email to contact you at
URL:https://legacyleadershipforums.org/event/marketplace-series-2023-24-cultivating-flourishing-in-your-organization-residence-inn/
ATTACH;FMTTYPE=image/jpeg:https://legacyleadershipforums.org/wp-content/uploads/Marketing-for-Aug-2023-Website-scaled.jpg
END:VEVENT
BEGIN:VEVENT
DTSTART;TZID=UTC:20230623T180000
DTEND;TZID=UTC:20230625T100000
DTSTAMP:20260421T213914
CREATED:20230426T013753Z
LAST-MODIFIED:20230426T014359Z
UID:24560-1687543200-1687687200@legacyleadershipforums.org
SUMMARY:The Marriage Retreate & Get Away "Marriage: A Reflection of Christ"
DESCRIPTION:Please provide email:
URL:https://legacyleadershipforums.org/event/the-marriage-retreate-get-away-marriage-a-reflection-of-christ/
ATTACH;FMTTYPE=image/jpeg:https://legacyleadershipforums.org/wp-content/uploads/Marriage-Retreat-Invite-scaled.jpg
END:VEVENT
BEGIN:VEVENT
DTSTART;TZID=UTC:20230221T080000
DTEND;TZID=UTC:20230221T120000
DTSTAMP:20260421T213914
CREATED:20221003T234327Z
LAST-MODIFIED:20230106T214709Z
UID:24416-1676966400-1676980800@legacyleadershipforums.org
SUMMARY:Part 3 of The Marketplace Series 2022-2023: How to Build an Effective Leadership Team in your business.
DESCRIPTION:Registration\n\n\nOne participant for Residence Inn $75.00 USD2 participants for Residence Inn $150.00 USD3 participants for Residence $225.00 USD4 participants for Residence Inn $300.00 USD5 participants for Residence Inn $375.00 USD6 participants for Residence Inn $450.00 USD \n\n\nBest email to contact you at
URL:https://legacyleadershipforums.org/event/part-2-of-the-marketplace-series-2022-how-to-build-an-effective-leadership-team-in-your-business/
ATTACH;FMTTYPE=image/jpeg:https://legacyleadershipforums.org/wp-content/uploads/Marketing-for-Feb-2023-scaled.jpg
END:VEVENT
BEGIN:VEVENT
DTSTART;TZID=UTC:20230207T080000
DTEND;TZID=UTC:20230207T120000
DTSTAMP:20260421T213914
CREATED:20221003T234747Z
LAST-MODIFIED:20230106T214703Z
UID:24419-1675756800-1675771200@legacyleadershipforums.org
SUMMARY:Part 3 of The Marketplace Series 2022-2023: How to Build an Effective Leadership Team in your business.
DESCRIPTION:Registration\n\n\nOne participant for Andorra $75.00 USD2 participants for Andorra $150.00 USD3 participants for Andorra $225.00 USD4 participants for Andorra $300.00 USD5 participants for Andorra $375.00 USD6 participants for Andorra $450.00 USD \n\n\nBest email to contact you at:
URL:https://legacyleadershipforums.org/event/part-2-of-the-marketplace-series-2022-how-to-build-an-effective-leadership-team-in-your-business-2/
ATTACH;FMTTYPE=image/jpeg:https://legacyleadershipforums.org/wp-content/uploads/Marketing-for-Feb-2023-scaled.jpg
END:VEVENT
END:VCALENDAR